BEGIN:VCALENDAR
VERSION:2.0
PRODID:-//92.205.248.210//NONSGML kigkonsult.se iCalcreator 2.20//
CALSCALE:GREGORIAN
METHOD:PUBLISH
X-WR-TIMEZONE:Europe/Berlin
BEGIN:VEVENT
UID:event768@JC-Container
DTSTAMP:20260419T130214Z
CATEGORIES:Geburtstage
DESCRIPTION:Lukas H\nKategorie: Geburtstage\nICS-Link: https://jc-container
 .de/container/index.php?option=com_jem&view=event&id=768:lukas-h\n
DTSTART;VALUE=DATE:20260415
DTEND;VALUE=DATE:20260416
SUMMARY:Lukas H
URL:https://jc-container.de/container/index.php?option=com_jem&view=event&i
 d=768:lukas-h
END:VEVENT
END:VCALENDAR